BEGIN:VCALENDAR
VERSION:2.0
PRODID:-//Plone.org//NONSGML plone.app.event//EN
X-WR-TIMEZONE:Europe/Berlin
BEGIN:VEVENT
SUMMARY:Mitgliederversammlung
DTSTART;TZID=CET:20080408T190000
DTEND;TZID=CET:20080408T220000
DTSTAMP:20260423T140238Z
UID:54666d0be16c4f268289223b4e7949fc@www.zsg-waltershausen.de
CATEGORIES:ZSG,Mitgliederversammlung
CREATED:20240131T145839Z
DESCRIPTION:Die ZSG Grün-Weiß Waltershausen  lädt zu ihrer diesjährige
 n Hauptversammlung am 8. April 19.00 Uhr im Sporthaus Gothaer Straße  ein
 .
LAST-MODIFIED:20240321T073956Z
LOCATION:Sporthaus
URL:https://www.zsg-waltershausen.de/events/mv-2008
END:VEVENT
BEGIN:VTIMEZONE
TZID:CET
X-LIC-LOCATION:CET
BEGIN:DAYLIGHT
DTSTART:20080330T030000
TZNAME:CEST
TZOFFSETFROM:+0100
TZOFFSETTO:+0200
END:DAYLIGHT
END:VTIMEZONE
END:VCALENDAR
