BEGIN:VCALENDAR
VERSION:2.0
PRODID:-//Plone.org//NONSGML plone.app.event//EN
X-WR-TIMEZONE:Europe/Berlin
BEGIN:VEVENT
SUMMARY:Mitgliederversammlung 2025
DTSTART;TZID=Europe/Berlin:20250604T183000
DTSTAMP:20260423T085521Z
UID:f910037168984d21aed360d40c6b0bed@www.zsg-waltershausen.de
CREATED:20250506T061323Z
LAST-MODIFIED:20250506T063852Z
LOCATION:Großer Saal im Sporthaus\, Gothaer Straße
URL:https://www.zsg-waltershausen.de/events/mitgliederversammlung-2025-1
END:VEVENT
BEGIN:VTIMEZONE
TZID:Europe/Berlin
X-LIC-LOCATION:Europe/Berlin
BEGIN:DAYLIGHT
DTSTART:20250330T030000
TZNAME:CEST
TZOFFSETFROM:+0100
TZOFFSETTO:+0200
END:DAYLIGHT
END:VTIMEZONE
END:VCALENDAR
