BEGIN:VCALENDAR
VERSION:2.0
PRODID:-//Plone.org//NONSGML plone.app.event//EN
X-WR-TIMEZONE:Europe/Berlin
BEGIN:VEVENT
SUMMARY:Mitgliederversammlung 2023
DTSTART;TZID=CET:20230418T183000
DTEND;TZID=CET:20230418T210000
DTSTAMP:20260423T111841Z
UID:87e9020b5bb7462796fdf4b2e2e134d7@www.zsg-waltershausen.de
CREATED:20240131T145839Z
LAST-MODIFIED:20240321T073754Z
LOCATION:Großer Saal im Sporthaus
URL:https://www.zsg-waltershausen.de/events/mitgliederversammlung-2023
END:VEVENT
BEGIN:VTIMEZONE
TZID:CET
X-LIC-LOCATION:CET
BEGIN:DAYLIGHT
DTSTART:20230326T030000
TZNAME:CEST
TZOFFSETFROM:+0100
TZOFFSETTO:+0200
END:DAYLIGHT
END:VTIMEZONE
END:VCALENDAR
