BEGIN:VCALENDAR
VERSION:2.0
PRODID:-//Plone.org//NONSGML plone.app.event//EN
X-WR-TIMEZONE:Europe/Berlin
BEGIN:VEVENT
SUMMARY:Abteilungsleiterversammlung
DTSTART;TZID=CET:20080520T180000
DTEND;TZID=CET:20080520T193000
DTSTAMP:20260423T164710Z
UID:29ace91c857143ee942b67bf209560aa@www.zsg-waltershausen.de
CATEGORIES:ZSG,Abteilungsleiterversammlung
CREATED:20240131T145839Z
LAST-MODIFIED:20240321T074013Z
LOCATION:Altes Spital
URL:https://www.zsg-waltershausen.de/events/alv-2008-05
END:VEVENT
BEGIN:VTIMEZONE
TZID:CET
X-LIC-LOCATION:CET
BEGIN:DAYLIGHT
DTSTART:20080330T030000
TZNAME:CEST
TZOFFSETFROM:+0100
TZOFFSETTO:+0200
END:DAYLIGHT
END:VTIMEZONE
END:VCALENDAR
