BEGIN:VCALENDAR
VERSION:2.0
PRODID:-//Plone.org//NONSGML plone.app.event//EN
X-WR-TIMEZONE:Europe/Berlin
BEGIN:VEVENT
SUMMARY:Abteilungsleiterversammlung
DTSTART;TZID=CET:20080318T180000
DTEND;TZID=CET:20080318T200000
DTSTAMP:20260423T085521Z
UID:ac17bf250f604dadb2c4df70d34f9ad0@www.zsg-waltershausen.de
CATEGORIES:ZSG,Abteilungsleiterversammlung
CREATED:20240131T145839Z
LAST-MODIFIED:20240321T074007Z
LOCATION:Vereinshaus "Altes Spital"
URL:https://www.zsg-waltershausen.de/events/alv-2008-03
END:VEVENT
BEGIN:VTIMEZONE
TZID:CET
X-LIC-LOCATION:CET
BEGIN:STANDARD
DTSTART:20071028T020000
TZNAME:CET
TZOFFSETFROM:+0200
TZOFFSETTO:+0100
END:STANDARD
END:VTIMEZONE
END:VCALENDAR
