BEGIN:VCALENDAR
VERSION:2.0
PRODID:-//Plone.org//NONSGML plone.app.event//EN
X-WR-TIMEZONE:Europe/Berlin
BEGIN:VEVENT
SUMMARY:Bezirksliga U12 2. Spieltag Waltershausen-SV Breitenworbis II
DTSTART;TZID=CET:20121201T090000
DTEND;TZID=CET:20121201T120000
DTSTAMP:20260423T124419Z
UID:22b905101b8c4fbea9acf2dc5ad56e7e@www.zsg-waltershausen.de
CATEGORIES:Schach,Punktspiel
CREATED:20240131T145839Z
DESCRIPTION:Bezirksliga U12 2. Spieltag Waltershausen-SV Breitenworbis II
LAST-MODIFIED:20240415T203906Z
LOCATION:Waltershausen
URL:https://www.zsg-waltershausen.de/abt/schach/termine/bezirksliga-u12-2.
 -spieltag-waltershausen-sv-breitenworbis-ii
END:VEVENT
BEGIN:VTIMEZONE
TZID:CET
X-LIC-LOCATION:CET
BEGIN:STANDARD
DTSTART:20121028T020000
TZNAME:CET
TZOFFSETFROM:+0200
TZOFFSETTO:+0100
END:STANDARD
END:VTIMEZONE
END:VCALENDAR
