BEGIN:VCALENDAR
VERSION:2.0
PRODID:-//Plone.org//NONSGML plone.app.event//EN
X-WR-TIMEZONE:Europe/Berlin
BEGIN:VEVENT
SUMMARY:2. Spieltag Bezirksliga U12 
DTSTART;TZID=CET:20101106T090000
DTEND;TZID=CET:20101106T130000
DTSTAMP:20260423T084343Z
UID:3eae0ce7ac8941acb63de5d39ea497de@www.zsg-waltershausen.de
CATEGORIES:Schach,Punktspiel
CREATED:20240131T145839Z
DESCRIPTION:ZSG GW Waltershausen	-	SG Burgtonna
LAST-MODIFIED:20240415T203906Z
LOCATION:Sporthaus Waltershausen  Gothaer Straße 47  99880 Waltershausen
URL:https://www.zsg-waltershausen.de/abt/schach/termine/2.-spieletag-bezir
 ksliga-u12
END:VEVENT
BEGIN:VTIMEZONE
TZID:CET
X-LIC-LOCATION:CET
BEGIN:STANDARD
DTSTART:20101031T020000
TZNAME:CET
TZOFFSETFROM:+0200
TZOFFSETTO:+0100
END:STANDARD
END:VTIMEZONE
END:VCALENDAR
