BEGIN:VCALENDAR
VERSION:2.0
PRODID:-//Plone.org//NONSGML plone.app.event//EN
X-WR-TIMEZONE:Europe/Berlin
BEGIN:VEVENT
SUMMARY:1. Spieltag Bezirksliga U12 
DTSTART;TZID=CET:20101002T090000
DTEND;TZID=CET:20101002T130000
DTSTAMP:20260423T235521Z
UID:f8ee79a5c8be434e982c61456f2b4df1@www.zsg-waltershausen.de
CATEGORIES:Schach,Punktspiel
CREATED:20240131T145839Z
DESCRIPTION:SC 51 Nordhausen		-	ZSG GW Waltershausen		
LAST-MODIFIED:20240415T203906Z
LOCATION:Thomas-Mann-Club  Wilhelm-Nebelung-Straße 39  99734 Nordhausen
URL:https://www.zsg-waltershausen.de/abt/schach/termine/1.-spieltag-bezirk
 sliga-u12
END:VEVENT
BEGIN:VTIMEZONE
TZID:CET
X-LIC-LOCATION:CET
BEGIN:DAYLIGHT
DTSTART:20100328T030000
TZNAME:CEST
TZOFFSETFROM:+0100
TZOFFSETTO:+0200
END:DAYLIGHT
END:VTIMEZONE
END:VCALENDAR
